BEGIN:VCALENDAR
VERSION:2.0
PRODID:SchoolNow
CALSCALE:GREGORIAN
BEGIN:VEVENT
UID:75a604e6-989b-11f0-8593-0a58a9feac02
DTSTAMP:20250923T163630Z
SUMMARY:CDD Board Meeting - Sept. 2026
LOCATION:Harbour Isles Clubhouse\, 121 Spindle Shell Way Apollo Beach\, FL 
 33572 United States
URL;VALUE=URI:https://www.harbourislescdd.org/calendar/8656821/cdd-board-me
 eting-sept-2026
DTSTART:20260922T150000Z
DTEND:20260922T180000Z
END:VEVENT
END:VCALENDAR
