BEGIN:VCALENDAR
VERSION:2.0
PRODID:SchoolNow
CALSCALE:GREGORIAN
BEGIN:VEVENT
UID:6c547670-989b-11f0-a77c-0a58a9feac02
DTSTAMP:20250923T163615Z
SUMMARY:CDD Board Meeting - Aug. 2026
LOCATION:Harbour Isles Clubhouse\, 121 Spindle Shell Way Apollo Beach\, FL 
 33572 United States
URL;VALUE=URI:https://www.harbourislescdd.org/calendar/8656820/cdd-board-me
 eting-aug-2026
DTSTART:20260825T150000Z
DTEND:20260825T180000Z
END:VEVENT
END:VCALENDAR
