BEGIN:VCALENDAR
VERSION:2.0
PRODID:SchoolNow
CALSCALE:GREGORIAN
BEGIN:VEVENT
UID:63b237be-989b-11f0-930c-0e84c27ea6fb
DTSTAMP:20250923T163600Z
SUMMARY:CDD Board Meeting - Jul. 2026
LOCATION:Harbour Isles Clubhouse\, 121 Spindle Shell Way Apollo Beach\, FL 
 33572 United States
URL;VALUE=URI:https://www.harbourislescdd.org/calendar/8656819/cdd-board-me
 eting-jul-2026
DTSTART:20260728T150000Z
DTEND:20260728T180000Z
END:VEVENT
END:VCALENDAR
