BEGIN:VCALENDAR
VERSION:2.0
PRODID:SchoolNow
CALSCALE:GREGORIAN
BEGIN:VEVENT
UID:5b4244de-989b-11f0-a209-0a58a9feac02
DTSTAMP:20250923T163546Z
SUMMARY:CDD Board Meeting - Jun. 2026
LOCATION:Harbour Isles Clubhouse\, 121 Spindle Shell Way Apollo Beach\, FL 
 33572 United States
URL;VALUE=URI:https://www.harbourislescdd.org/calendar/8656818/cdd-board-me
 eting-jun-2026
DTSTART:20260623T150000Z
DTEND:20260623T180000Z
END:VEVENT
END:VCALENDAR
