BEGIN:VCALENDAR
VERSION:2.0
PRODID:SchoolNow
CALSCALE:GREGORIAN
BEGIN:VEVENT
UID:4f2d661a-989b-11f0-a62e-0afff5f4fb2d
DTSTAMP:20250923T163526Z
SUMMARY:CDD Board Meeting - May 26th\, 2026
LOCATION:Harbour Isles Clubhouse\, 121 Spindle Shell Way Apollo Beach\, FL 
 33572 United States
URL;VALUE=URI:https://www.harbourislescdd.org/calendar/8656817/cdd-board-me
 eting-may-26th-2026
DTSTART:20260526T150000Z
DTEND:20260526T180000Z
END:VEVENT
END:VCALENDAR
