BEGIN:VCALENDAR
VERSION:2.0
PRODID:SchoolNow
CALSCALE:GREGORIAN
BEGIN:VEVENT
UID:3569fc66-989b-11f0-bc06-0a58a9feac02
DTSTAMP:20260421T194203Z
SUMMARY:CDD Board Meeting - Apr. 2026
LOCATION:Harbour Isles Clubhouse\, 121 Spindle Shell Way Apollo Beach\, FL 
 33572 United States
URL;VALUE=URI:https://www.harbourislescdd.org/calendar/8656815/cdd-board-me
 eting-apr-2026
DTSTART:20260428T150000Z
DTEND:20260428T180000Z
ATTACH;FILENAME=2026-04-28 Harbour Isles CDD Final Agenda Package.pdf;FMTTY
 PE=application/pdf:https://campussuite-storage.s3.amazonaws.com/prod/15588
 81/530efeb2-ea99-11e9-b008-0a20d2c7fac4/3091451/28125dd2-3dba-11f1-8566-02
 f090158227/file/2026-04-28 Harbour Isles CDD Final Agenda Package.pdf
END:VEVENT
END:VCALENDAR
