BEGIN:VCALENDAR
VERSION:2.0
PRODID:SchoolNow
CALSCALE:GREGORIAN
BEGIN:VEVENT
UID:2c16c5ea-989b-11f0-97f3-0e84c27ea6fb
DTSTAMP:20260317T161037Z
SUMMARY:CDD Board Meeting - Mar. 2026
LOCATION:Harbour Isles Clubhouse\, 121 Spindle Shell Way Apollo Beach\, FL 
 33572 United States
URL;VALUE=URI:https://www.harbourislescdd.org/calendar/8656814/cdd-board-me
 eting-mar-2026
DTSTART:20260324T150000Z
DTEND:20260324T180000Z
ATTACH;FILENAME=2026-03-24 Harbour Isles CDD Final Agenda Package.pdf;FMTTY
 PE=application/pdf:https://campussuite-storage.s3.amazonaws.com/prod/15588
 81/530efeb2-ea99-11e9-b008-0a20d2c7fac4/3080611/d2e6aa98-221b-11f1-be80-0a
 58a9feac02/file/2026-03-24 Harbour Isles CDD Final Agenda Package.pdf
END:VEVENT
END:VCALENDAR
