BEGIN:VCALENDAR
VERSION:2.0
PRODID:SchoolNow
CALSCALE:GREGORIAN
BEGIN:VEVENT
UID:221fb57e-989b-11f0-87ea-0a58a9feac02
DTSTAMP:20260219T215725Z
SUMMARY:CDD Board Meeting - Feb. 2026
LOCATION:Harbour Isles Clubhouse\, 121 Spindle Shell Way Apollo Beach\, FL 
 33572 United States
URL;VALUE=URI:https://www.harbourislescdd.org/calendar/8656813/cdd-board-me
 eting-feb-2026
DTSTART:20260224T160000Z
DTEND:20260224T190000Z
ATTACH;FILENAME=2026-02-24 Harbour Isles CDD Revised Final Agenda Package.p
 df;FMTTYPE=application/pdf:https://campussuite-storage.s3.amazonaws.com/pr
 od/1558881/530efeb2-ea99-11e9-b008-0a20d2c7fac4/3072776/f6d4d76a-0ddd-11f1
 -97b2-0e2a2a433083/file/2026-02-24 Harbour Isles CDD Revised Final Agenda 
 Package.pdf
END:VEVENT
END:VCALENDAR
