BEGIN:VCALENDAR
VERSION:2.0
PRODID:SchoolNow
CALSCALE:GREGORIAN
BEGIN:VEVENT
UID:1a4d1c74-989b-11f0-8983-02978cd4ae17
DTSTAMP:20260120T151738Z
SUMMARY:CDD Board Meeting - Jan. 2026
LOCATION:Harbour Isles Clubhouse\, 121 Spindle Shell Way Apollo Beach\, FL 
 33572 United States
URL;VALUE=URI:https://www.harbourislescdd.org/calendar/8656811/cdd-board-me
 eting-jan-2026
DTSTART:20260127T160000Z
DTEND:20260127T190000Z
ATTACH;FILENAME=2026-01-27 Harbour Isles CDD Final Agenda Package.pdf;FMTTY
 PE=application/pdf:https://campussuite-storage.s3.amazonaws.com/prod/15588
 81/530efeb2-ea99-11e9-b008-0a20d2c7fac4/3061636/2428cef2-f613-11f0-93f1-0a
 58a9feac02/file/2026-01-27 Harbour Isles CDD Final Agenda Package.pdf
END:VEVENT
END:VCALENDAR
