BEGIN:VCALENDAR
VERSION:2.0
PRODID:SchoolNow
CALSCALE:GREGORIAN
BEGIN:VEVENT
UID:11c95f4a-989b-11f0-83ae-0afff5f4fb2d
DTSTAMP:20251209T230047Z
SUMMARY:CDD Board Meeting - Dec. 2025
LOCATION:Harbour Isles Clubhouse\, 121 Spindle Shell Way Apollo Beach\, FL 
 33572 United States
URL;VALUE=URI:https://www.harbourislescdd.org/calendar/8656810/cdd-board-me
 eting-dec-2025
DTSTART:20251216T160000Z
DTEND:20251216T190000Z
ATTACH;FILENAME=2025-12-16 Harbour Isles CDD Final Agenda Package.pdf;FMTTY
 PE=application/pdf:https://campussuite-storage.s3.amazonaws.com/prod/15588
 81/530efeb2-ea99-11e9-b008-0a20d2c7fac4/3049715/e3cd6588-d552-11f0-b0a3-02
 0fd1fbdfd5/file/2025-12-16 Harbour Isles CDD Final Agenda Package.pdf
END:VEVENT
END:VCALENDAR
