BEGIN:VCALENDAR
VERSION:2.0
PRODID:SchoolNow
CALSCALE:GREGORIAN
BEGIN:VEVENT
UID:0a6da5bc-989b-11f0-b812-023d67bb3955
DTSTAMP:20251111T214225Z
SUMMARY:CDD Board Meeting - Nov. 2025
LOCATION:Harbour Isles Clubhouse\, 121 Spindle Shell Way Apollo Beach\, FL 
 33572 United States
URL;VALUE=URI:https://www.harbourislescdd.org/calendar/8656809/cdd-board-me
 eting-nov-2025
DTSTART:20251118T160000Z
DTEND:20251118T190000Z
ATTACH;FILENAME=2025-11-18 Harbour Isles CDD Final Agenda Package.pdf;FMTTY
 PE=application/pdf:https://campussuite-storage.s3.amazonaws.com/prod/15588
 81/530efeb2-ea99-11e9-b008-0a20d2c7fac4/3036466/4d86fa9c-bf47-11f0-9fbd-0a
 58a9feac02/file/2025-11-18 Harbour Isles CDD Final Agenda Package.pdf
END:VEVENT
END:VCALENDAR
