BEGIN:VCALENDAR
VERSION:2.0
PRODID:SchoolNow
CALSCALE:GREGORIAN
BEGIN:VEVENT
UID:02bb7fd8-989b-11f0-a956-0a58a9feac02
DTSTAMP:20251021T205728Z
SUMMARY:CDD Board Meeting - Oct. 2025
LOCATION:Harbour Isles Clubhouse\, 121 Spindle Shell Way Apollo Beach\, FL 
 33572 United States
URL;VALUE=URI:https://www.harbourislescdd.org/calendar/8656808/cdd-board-me
 eting-oct-2025
DTSTART:20251028T150000Z
DTEND:20251028T180000Z
ATTACH;FILENAME=2025-10-28 Harbour Isles CDD Final Agenda Package.pdf;FMTTY
 PE=application/pdf:https://campussuite-storage.s3.amazonaws.com/prod/15588
 81/530efeb2-ea99-11e9-b008-0a20d2c7fac4/3024067/8ae28380-aec0-11f0-a865-0a
 58a9feac02/file/2025-10-28 Harbour Isles CDD Final Agenda Package.pdf
END:VEVENT
END:VCALENDAR
