BEGIN:VCALENDAR
VERSION:2.0
PRODID:SchoolNow
CALSCALE:GREGORIAN
BEGIN:VEVENT
UID:d28bd5d4-7757-11ef-b85d-0a58a9feac02
DTSTAMP:20250918T095334Z
SUMMARY:CDD Board Meeting - Sept. 2025
LOCATION:Harbour Isles Clubhouse\, 121 Spindle Shell Way Apollo Beach\, FL 
 33572 United States
URL;VALUE=URI:https://www.harbourislescdd.org/calendar/6651652/cdd-board-me
 eting-sept-2025
DTSTART:20250923T150000Z
DTEND:20250923T180000Z
ATTACH;FILENAME=2025-09-23 HICDD Agenda Package.pdf;FMTTYPE=application/pdf
 :https://campussuite-storage.s3.amazonaws.com/prod/1558881/530efeb2-ea99-1
 1e9-b008-0a20d2c7fac4/3008467/53b2be58-9475-11f0-82c2-0afff7dbe6d3/file/20
 25-09-23 HICDD Agenda Package.pdf
END:VEVENT
END:VCALENDAR
