BEGIN:VCALENDAR
VERSION:2.0
PRODID:SchoolNow
CALSCALE:GREGORIAN
BEGIN:VEVENT
UID:c6efc71c-7757-11ef-896a-0affeaebdb35
DTSTAMP:20250820T124943Z
SUMMARY:CDD Board Meeting - Aug. 2025
LOCATION:Harbour Isles Clubhouse\, 121 Spindle Shell Way Apollo Beach\, FL 
 33572 United States
URL;VALUE=URI:https://www.harbourislescdd.org/calendar/6651651/cdd-board-me
 eting-aug-2025
DTSTART:20250826T150000Z
DTEND:20250826T180000Z
ATTACH;FILENAME=2025-08-26 Harbour Isles Agenda Package __.pdf;FMTTYPE=appl
 ication/pdf:https://campussuite-storage.s3.amazonaws.com/prod/1558881/530e
 feb2-ea99-11e9-b008-0a20d2c7fac4/2995661/213bd116-7dc4-11f0-8ebd-0e8b14fcf
 377/file/2025-08-26 Harbour Isles Agenda Package __.pdf
END:VEVENT
END:VCALENDAR
