BEGIN:VCALENDAR
VERSION:2.0
PRODID:SchoolNow
CALSCALE:GREGORIAN
BEGIN:VEVENT
UID:bcd58cbc-7757-11ef-aa75-0affde6d7199
DTSTAMP:20250716T095149Z
SUMMARY:CDD Board Meeting - Jul. 2025
LOCATION:Harbour Isles Clubhouse\, 121 Spindle Shell Way Apollo Beach\, FL 
 33572 United States
URL;VALUE=URI:https://www.harbourislescdd.org/calendar/6651650/cdd-board-me
 eting-jul-2025
DTSTART:20250722T150000Z
DTEND:20250722T180000Z
ATTACH;FILENAME=2025-07-22 Harbour Isles Agenda Package.pdf;FMTTYPE=applica
 tion/pdf:https://campussuite-storage.s3.amazonaws.com/prod/1558881/530efeb
 2-ea99-11e9-b008-0a20d2c7fac4/2982142/780478dc-622a-11f0-ab27-0210512b0f9d
 /file/2025-07-22 Harbour Isles Agenda Package.pdf
END:VEVENT
END:VCALENDAR
