BEGIN:VCALENDAR
VERSION:2.0
PRODID:SchoolNow
CALSCALE:GREGORIAN
BEGIN:VEVENT
UID:51365a22-7757-11ef-8a8c-0a58a9feac02
DTSTAMP:20241210T193630Z
SUMMARY:CDD Board Meeting - Dec. 2024
LOCATION:Harbour Isles Clubhouse\, 121 Spindle Shell Way Apollo Beach\, FL 
 33572 United States
URL;VALUE=URI:https://www.harbourislescdd.org/calendar/6650066/cdd-board-me
 eting-dec-2024
DTSTART:20241217T160000Z
DTEND:20241217T190000Z
ATTACH;FILENAME=2024-12-17 agenda package.pdf;FMTTYPE=application/pdf:https
 ://campussuite-storage.s3.amazonaws.com/prod/1558881/530efeb2-ea99-11e9-b0
 08-0a20d2c7fac4/2889692/0a725962-b72e-11ef-8b30-0a58a9feac02/file/2024-12-
 17 agenda package.pdf
END:VEVENT
END:VCALENDAR
