BEGIN:VCALENDAR
VERSION:2.0
PRODID:SchoolNow
CALSCALE:GREGORIAN
BEGIN:VEVENT
UID:47afddac-7757-11ef-909f-0affe1dbe963
DTSTAMP:20241112T213446Z
SUMMARY:CDD Board Meeting - Nov. 2024
LOCATION:Harbour Isles Clubhouse\, 121 Spindle Shell Way Apollo Beach\, FL 
 33572 United States
URL;VALUE=URI:https://www.harbourislescdd.org/calendar/6650064/cdd-board-me
 eting-nov-2024
DTSTART:20241119T160000Z
DTEND:20241119T190000Z
ATTACH;FILENAME=2024-11-19 agenda package.pdf;FMTTYPE=application/pdf:https
 ://campussuite-storage.s3.amazonaws.com/prod/1558881/530efeb2-ea99-11e9-b0
 08-0a20d2c7fac4/2878647/ed3cd94a-a13d-11ef-b408-0a58a9feac02/file/2024-11-
 19 agenda package.pdf
END:VEVENT
END:VCALENDAR
