BEGIN:VCALENDAR
VERSION:2.0
PRODID:SchoolNow
CALSCALE:GREGORIAN
BEGIN:VEVENT
UID:3c130384-7757-11ef-81ee-02a9c129bb21
DTSTAMP:20241015T212600Z
SUMMARY:CDD Board Meeting - Oct. 2024
LOCATION:Harbour Isles Clubhouse\, 121 Spindle Shell Way Apollo Beach\, FL 
 33572 United States
URL;VALUE=URI:https://www.harbourislescdd.org/calendar/6650057/cdd-board-me
 eting-oct-2024
DTSTART:20241022T150000Z
DTEND:20241022T180000Z
ATTACH;FILENAME=2024-10-22 agenda package.pdf;FMTTYPE=application/pdf:https
 ://campussuite-storage.s3.amazonaws.com/prod/1558881/530efeb2-ea99-11e9-b0
 08-0a20d2c7fac4/2862843/0fbc27e0-8b3c-11ef-89a1-021d9eff3d63/file/2024-10-
 22 agenda package.pdf
END:VEVENT
END:VCALENDAR
