BEGIN:VCALENDAR
VERSION:2.0
PRODID:SchoolNow
CALSCALE:GREGORIAN
BEGIN:VEVENT
UID:872cd014-4932-11ef-bb6f-02dcbbca1941
DTSTAMP:20240726T095355Z
SUMMARY:CDD Audit Committee - Jul. 2024
LOCATION:Harbour Isles Clubhouse\, 121 Spindle Shell Way Apollo Beach\, FL 
 33572 United States
URL;VALUE=URI:https://www.harbourislescdd.org/calendar/6300458/cdd-audit-co
 mmittee-jul-2024
DTSTART:20240730T150000Z
DTEND:20240730T180000Z
ATTACH;FILENAME=2024-07-30 agenda package audit committee meeting (1).pdf;F
 MTTYPE=application/pdf:https://campussuite-storage.s3.amazonaws.com/prod/1
 558881/530efeb2-ea99-11e9-b008-0a20d2c7fac4/2822198/f1905742-4b34-11ef-9a5
 4-02e60c282667/file/2024-07-30 agenda package audit committee meeting (1).
 pdf
END:VEVENT
END:VCALENDAR
