BEGIN:VCALENDAR
VERSION:2.0
PRODID:SchoolNow
CALSCALE:GREGORIAN
BEGIN:VEVENT
UID:a17ebdd0-613c-11ee-a951-02cedc338c99
DTSTAMP:20240918T195127Z
SUMMARY:CDD Board Meeting - Sept. 2024
LOCATION:Harbour Isles Clubhouse\, 121 Spindle Shell Way Apollo Beach\, FL 
 33572 United States
URL;VALUE=URI:https://www.harbourislescdd.org/calendar/4821354/cdd-board-me
 eting-sept-2024
DTSTART:20240924T150000Z
DTEND:20240924T180000Z
ATTACH;FILENAME=2024-09-24 agenda package.pdf;FMTTYPE=application/pdf:https
 ://campussuite-storage.s3.amazonaws.com/prod/1558881/530efeb2-ea99-11e9-b0
 08-0a20d2c7fac4/2848941/5dcd0e04-75f7-11ef-9c10-0a58a9feac02/file/2024-09-
 24 agenda package.pdf
END:VEVENT
END:VCALENDAR
