BEGIN:VCALENDAR
VERSION:2.0
PRODID:SchoolNow
CALSCALE:GREGORIAN
BEGIN:VEVENT
UID:9621f268-613c-11ee-bc71-02cedc338c99
DTSTAMP:20240827T150835Z
SUMMARY:CDD Board Meeting - Aug. 2024
LOCATION:Harbour Isles Clubhouse\, 121 Spindle Shell Way Apollo Beach\, FL 
 33572 United States
URL;VALUE=URI:https://www.harbourislescdd.org/calendar/4821353/cdd-board-me
 eting-aug-2024
DTSTART:20240827T150000Z
DTEND:20240827T180000Z
ATTACH;FILENAME=2024-08-27 agenda package.pdf;FMTTYPE=application/pdf:https
 ://campussuite-storage.s3.amazonaws.com/prod/1558881/530efeb2-ea99-11e9-b0
 08-0a20d2c7fac4/2838300/24e88ce4-6486-11ef-a4cc-0a58a9feac02/file/2024-08-
 27 agenda package.pdf
END:VEVENT
END:VCALENDAR
