BEGIN:VCALENDAR
VERSION:2.0
PRODID:SchoolNow
CALSCALE:GREGORIAN
BEGIN:VEVENT
UID:8a9b5902-613c-11ee-bf9f-0a58a9feac02
DTSTAMP:20240724T220024Z
SUMMARY:CDD Board Meeting - Jul. 2024
LOCATION:Harbour Isles Clubhouse\, 121 Spindle Shell Way Apollo Beach\, FL 
 33572 United States
URL;VALUE=URI:https://www.harbourislescdd.org/calendar/4821352/cdd-board-me
 eting-jul-2024
DTSTART:20240730T150000Z
DTEND:20240730T180000Z
ATTACH;FILENAME=2024-07-30 agenda package.pdf;FMTTYPE=application/pdf:https
 ://campussuite-storage.s3.amazonaws.com/prod/1558881/530efeb2-ea99-11e9-b0
 08-0a20d2c7fac4/2821486/1c45ecf0-4a08-11ef-9bde-0a58a9feac02/file/2024-07-
 30 agenda package.pdf
END:VEVENT
END:VCALENDAR
