BEGIN:VCALENDAR
VERSION:2.0
PRODID:SchoolNow
CALSCALE:GREGORIAN
BEGIN:VEVENT
UID:7a6c29e4-613c-11ee-8adb-0a58a9feac02
DTSTAMP:20240619T100101Z
SUMMARY:CDD Board Meeting - Jun. 2024
LOCATION:Harbour Isles Clubhouse\, 121 Spindle Shell Way Apollo Beach\, FL 
 33572 United States
URL;VALUE=URI:https://www.harbourislescdd.org/calendar/4821351/cdd-board-me
 eting-jun-2024
DTSTART:20240625T150000Z
DTEND:20240625T180000Z
ATTACH;FILENAME=2024-06-25 agenda package (1).pdf;FMTTYPE=application/pdf:h
 ttps://campussuite-storage.s3.amazonaws.com/prod/1558881/530efeb2-ea99-11e
 9-b008-0a20d2c7fac4/2809694/d12b95ae-2e22-11ef-9e56-0a58a9feac02/file/2024
 -06-25 agenda package (1).pdf
END:VEVENT
END:VCALENDAR
