BEGIN:VCALENDAR
VERSION:2.0
PRODID:SchoolNow
CALSCALE:GREGORIAN
BEGIN:VEVENT
UID:6f863f4c-613c-11ee-9856-020ff1d80a27
DTSTAMP:20240523T121140Z
SUMMARY:CDD Board Meeting - May 2024
LOCATION:Harbour Isles Clubhouse\, 121 Spindle Shell Way Apollo Beach\, FL 
 33572 United States
URL;VALUE=URI:https://www.harbourislescdd.org/calendar/4821350/cdd-board-me
 eting-may-2024
DTSTART:20240528T150000Z
DTEND:20240528T180000Z
ATTACH;FILENAME=2024-05-28 agenda package-1.pdf;FMTTYPE=application/pdf:htt
 ps://campussuite-storage.s3.amazonaws.com/prod/1558881/530efeb2-ea99-11e9-
 b008-0a20d2c7fac4/2793076/98782702-18fd-11ef-8aaf-0a58a9feac02/file/2024-0
 5-28 agenda package-1.pdf
END:VEVENT
END:VCALENDAR
