BEGIN:VCALENDAR
VERSION:2.0
PRODID:SchoolNow
CALSCALE:GREGORIAN
BEGIN:VEVENT
UID:633032a2-613c-11ee-844b-0a58a9feac02
DTSTAMP:20240416T133430Z
SUMMARY:CDD Board Meeting - Apr. 2024
LOCATION:Harbour Isles Clubhouse\, 121 Spindle Shell Way Apollo Beach\, FL 
 33572 United States
URL;VALUE=URI:https://www.harbourislescdd.org/calendar/4821349/cdd-board-me
 eting-apr-2024
DTSTART:20240423T150000Z
DTEND:20240423T180000Z
ATTACH;FILENAME=2024-04-23 agenda package.pdf;FMTTYPE=application/pdf:https
 ://campussuite-storage.s3.amazonaws.com/prod/1558881/530efeb2-ea99-11e9-b0
 08-0a20d2c7fac4/2771145/09c27e46-fbf6-11ee-8115-0a58a9feac02/file/2024-04-
 23 agenda package.pdf
END:VEVENT
END:VCALENDAR
