BEGIN:VCALENDAR
VERSION:2.0
PRODID:SchoolNow
CALSCALE:GREGORIAN
BEGIN:VEVENT
UID:58fecc80-613c-11ee-ad20-0a58a9feac02
DTSTAMP:20240319T205153Z
SUMMARY:CDD Board Meeting - Mar. 2024
LOCATION:Harbour Isles Clubhouse\, 121 Spindle Shell Way Apollo Beach\, FL 
 33572 United States
URL;VALUE=URI:https://www.harbourislescdd.org/calendar/4821348/cdd-board-me
 eting-mar-2024
DTSTART:20240326T150000Z
DTEND:20240326T180000Z
ATTACH;FILENAME=2024-03-26 agenda package.pdf;FMTTYPE=application/pdf:https
 ://campussuite-storage.s3.amazonaws.com/prod/1558881/530efeb2-ea99-11e9-b0
 08-0a20d2c7fac4/2760178/80bbd170-e632-11ee-8551-029a7808a7bb/file/2024-03-
 26 agenda package.pdf
END:VEVENT
END:VCALENDAR
