BEGIN:VCALENDAR
VERSION:2.0
PRODID:SchoolNow
CALSCALE:GREGORIAN
BEGIN:VEVENT
UID:4b15427a-613c-11ee-b82d-02a47dd764a3
DTSTAMP:20240220T135644Z
SUMMARY:CDD Board Meeting - Feb. 2024
LOCATION:Harbour Isles Clubhouse\, 121 Spindle Shell Way Apollo Beach\, FL 
 33572 United States
URL;VALUE=URI:https://www.harbourislescdd.org/calendar/4821347/cdd-board-me
 eting-feb-2024
DTSTART:20240227T160000Z
DTEND:20240227T190000Z
ATTACH;FILENAME=2024-02-27 agenda package.pdf;FMTTYPE=application/pdf:https
 ://campussuite-storage.s3.amazonaws.com/prod/1558881/530efeb2-ea99-11e9-b0
 08-0a20d2c7fac4/2744765/de6aca02-cff7-11ee-8e7b-0a58a9feac02/file/2024-02-
 27 agenda package.pdf
END:VEVENT
END:VCALENDAR
