BEGIN:VCALENDAR
VERSION:2.0
PRODID:SchoolNow
CALSCALE:GREGORIAN
BEGIN:VEVENT
UID:3dcb72ce-613c-11ee-ad86-0a58a9feac02
DTSTAMP:20240116T220606Z
SUMMARY:CDD Board Meeting - Jan. 2024
LOCATION:Harbour Isles Clubhouse\, 121 Spindle Shell Way Apollo Beach\, FL 
 33572 United States
URL;VALUE=URI:https://www.harbourislescdd.org/calendar/4821346/cdd-board-me
 eting-jan-2024
DTSTART:20240123T160000Z
DTEND:20240123T190000Z
ATTACH;FILENAME=2024-01-23 agenda package.pdf;FMTTYPE=application/pdf:https
 ://campussuite-storage.s3.amazonaws.com/prod/1558881/530efeb2-ea99-11e9-b0
 08-0a20d2c7fac4/2726325/6f1f73ca-b4bb-11ee-a09f-0a58a9feac02/file/2024-01-
 23 agenda package.pdf
END:VEVENT
END:VCALENDAR
