BEGIN:VCALENDAR
VERSION:2.0
PRODID:SchoolNow
CALSCALE:GREGORIAN
BEGIN:VEVENT
UID:15017c3a-613c-11ee-94ff-0a58a9feac02
DTSTAMP:20231212T221137Z
SUMMARY:CDD Board Meeting - Dec. 2023
LOCATION:Harbour Isles Clubhouse\, 121 Spindle Shell Way Apollo Beach\, FL 
 33572 United States
URL;VALUE=URI:https://www.harbourislescdd.org/calendar/4821345/cdd-board-me
 eting-dec-2023
DTSTART:20231219T160000Z
DTEND:20231219T190000Z
ATTACH;FILENAME=2023-12-19 agenda package.pdf;FMTTYPE=application/pdf:https
 ://campussuite-storage.s3.amazonaws.com/prod/1558881/530efeb2-ea99-11e9-b0
 08-0a20d2c7fac4/2713277/65e955d2-993b-11ee-98e5-0ed91b4f4e73/file/2023-12-
 19 agenda package.pdf
END:VEVENT
END:VCALENDAR
