BEGIN:VCALENDAR
VERSION:2.0
PRODID:SchoolNow
CALSCALE:GREGORIAN
BEGIN:VEVENT
UID:0b142dd0-613c-11ee-bc66-0e21c6c8db91
DTSTAMP:20231128T131632Z
SUMMARY:CDD Board Meeting -  Nov. 2023
LOCATION:Harbour Isles Clubhouse\, 121 Spindle Shell Way Apollo Beach\, FL 
 33572 United States
URL;VALUE=URI:https://www.harbourislescdd.org/calendar/4821344/cdd-board-me
 eting-nov-2023
DTSTART:20231128T160000Z
DTEND:20231128T190000Z
ATTACH;FILENAME=2023-11-28 agenda package.pdf;FMTTYPE=application/pdf:https
 ://campussuite-storage.s3.amazonaws.com/prod/1558881/530efeb2-ea99-11e9-b0
 08-0a20d2c7fac4/2705581/5599b8e4-8df0-11ee-bdd2-0a58a9feac02/file/2023-11-
 28 agenda package.pdf
END:VEVENT
END:VCALENDAR
