BEGIN:VCALENDAR
VERSION:2.0
PRODID:SchoolNow
CALSCALE:GREGORIAN
BEGIN:VEVENT
UID:01518acc-613c-11ee-9959-0a9d765d54b1
DTSTAMP:20231018T134949Z
SUMMARY:CDD Board Meeting -  Oct. 2023
LOCATION:Harbour Isles Clubhouse\, 121 Spindle Shell Way Apollo Beach\, FL 
 33572 United States
URL;VALUE=URI:https://www.harbourislescdd.org/calendar/4821343/cdd-board-me
 eting-oct-2023
DTSTART:20231024T150000Z
DTEND:20231024T180000Z
ATTACH;FILENAME=2023-10-24 agenda package.pdf;FMTTYPE=application/pdf:https
 ://campussuite-storage.s3.amazonaws.com/prod/1558881/530efeb2-ea99-11e9-b0
 08-0a20d2c7fac4/2682546/2ede58b6-6dbd-11ee-b2a2-0a0e3d56e92d/file/2023-10-
 24 agenda package.pdf
END:VEVENT
END:VCALENDAR
