BEGIN:VCALENDAR
VERSION:2.0
PRODID:SchoolNow
CALSCALE:GREGORIAN
BEGIN:VEVENT
UID:ea0cb80e-3a7d-11ed-92f4-0ac792e720a3
DTSTAMP:20230920T152410Z
SUMMARY:CDD Board Meeting -  Sept. 2023
LOCATION:Harbour Isles Clubhouse\, 121 Spindle Shell Way Apollo Beach\, FL 
 33572 United States
URL;VALUE=URI:https://www.harbourislescdd.org/calendar/3428369/cdd-board-me
 eting-sept-2023
DTSTART:20230926T150000Z
DTEND:20230926T180000Z
ATTACH;FILENAME=2023-09-26 agenda package-1.pdf;FMTTYPE=application/pdf:htt
 ps://campussuite-storage.s3.amazonaws.com/prod/1558881/530efeb2-ea99-11e9-
 b008-0a20d2c7fac4/2664875/ba7eeef8-57c9-11ee-a6d4-0ae2a935c3d5/file/2023-0
 9-26 agenda package-1.pdf
END:VEVENT
END:VCALENDAR
